BEGIN:VCALENDAR
VERSION:2.0
PRODID:-//Phuket Yacht Club - ECPv6.15.20//NONSGML v1.0//EN
CALSCALE:GREGORIAN
METHOD:PUBLISH
X-WR-CALNAME:Phuket Yacht Club
X-ORIGINAL-URL:https://phuketyachtclub.com
X-WR-CALDESC:Events for Phuket Yacht Club
REFRESH-INTERVAL;VALUE=DURATION:PT1H
X-Robots-Tag:noindex
X-PUBLISHED-TTL:PT1H
BEGIN:VTIMEZONE
TZID:Asia/Bangkok
BEGIN:STANDARD
TZOFFSETFROM:+0700
TZOFFSETTO:+0700
TZNAME:+07
DTSTART:20220101T000000
END:STANDARD
END:VTIMEZONE
BEGIN:VEVENT
DTSTART;VALUE=DATE:20250219
DTEND;VALUE=DATE:20250224
DTSTAMP:20260424T024344
CREATED:20250128T055604Z
LAST-MODIFIED:20250128T061220Z
UID:10000141-1739923200-1740355199@phuketyachtclub.com
SUMMARY:28th Bay Regatta
DESCRIPTION:28th Bay Regatta – Phuket • Phang Nga • Krabi\n19th to 23rd February 2025\nOfficial Website: http://www.bayregatta.com\nfor more information\nmessage us via the buttons below\nfind out more on our facebook page \n\n 
URL:https://phuketyachtclub.com/event/28th-bay-regatta/
LOCATION:SUPALAI SCENIC BAY RESORT & SPA\, Thailand
CATEGORIES:Events,Sailing Regattas Phuket
ATTACH;FMTTYPE=image/jpeg:https://phuketyachtclub.com/wp-content/uploads/pyc-28th-bay-regatta-feat.jpg
END:VEVENT
BEGIN:VEVENT
DTSTART;VALUE=DATE:20230222
DTEND;VALUE=DATE:20230227
DTSTAMP:20260424T024344
CREATED:20230206T060436Z
LAST-MODIFIED:20230206T075503Z
UID:10000053-1677024000-1677455999@phuketyachtclub.com
SUMMARY:26th Bay Regatta
DESCRIPTION:26th Bay Regatta – Phuket • Phang Nga • Krabi\n22nd to 26th February 2023\n  \nfor more details\ncall on 093 090 0221 or to register contact us via the buttons below\n  \nfind out more on our facebook page \n \n 
URL:https://phuketyachtclub.com/event/26th-bay-regatta/
CATEGORIES:Events,PYC Regattas
ATTACH;FMTTYPE=image/jpeg:https://phuketyachtclub.com/wp-content/uploads/pyc-bay-regatta-february-feat.jpg
END:VEVENT
END:VCALENDAR