BEGIN:VCALENDAR
VERSION:2.0
PRODID:-//Phuket Yacht Club - ECPv6.15.20//NONSGML v1.0//EN
CALSCALE:GREGORIAN
METHOD:PUBLISH
X-ORIGINAL-URL:https://phuketyachtclub.com
X-WR-CALDESC:Events for Phuket Yacht Club
REFRESH-INTERVAL;VALUE=DURATION:PT1H
X-Robots-Tag:noindex
X-PUBLISHED-TTL:PT1H
BEGIN:VTIMEZONE
TZID:Asia/Bangkok
BEGIN:STANDARD
TZOFFSETFROM:+0700
TZOFFSETTO:+0700
TZNAME:+07
DTSTART:20290101T000000
END:STANDARD
END:VTIMEZONE
BEGIN:VEVENT
DTSTART;TZID=Asia/Bangkok:20301206T190000
DTEND;TZID=Asia/Bangkok:20301206T193000
DTSTAMP:20260424T220654
CREATED:20250831T061621Z
LAST-MODIFIED:20260421T064332Z
UID:10000701-1922814000-1922815800@phuketyachtclub.com
SUMMARY:PYC Members Weekly Prize Draw
DESCRIPTION:ANZAC DAY SERVICE @ The Yacht Club\nSaturday 25th April\nThe Commodore and the committee of the Phucket Yacht Club welcome members and guests to join us in the commemorative Anzac day service on Saturday 25th of April.  \nThis service is a dawn service and we will assemble at 5:30 AM\, the service will begin at 6.00 AM\nThe service will follow the traditional form recommended for Anzac day and one which we are proud to host. \nThe Commodore and the committee or the Phucket Yacht Club welcome members and guests to join us in the commemorative Anzac day service on Saturday 25th of April. This service is performed every year. \n  \n  \nCoffee and egg and bacon rolls will be available and the bar will open after the commemorative service . \n  \n  \n 
URL:https://phuketyachtclub.com/event/pyc-members-weekly-prize-draw/2030-12-06/
LOCATION:Phuket Yacht Club\, 52/25 Soi Phon Chalong\, Moo 9\, Chaofa Road East A.Muang T\, Chalong\, Phuket\, 83130\, Thailand
CATEGORIES:Events,Social Events
ATTACH;FMTTYPE=image/jpeg:https://phuketyachtclub.com/wp-content/uploads/PYC-WEEKLY-DRAW-NEW-web-feat.jpg
END:VEVENT
BEGIN:VEVENT
DTSTART;TZID=Asia/Bangkok:20301213T190000
DTEND;TZID=Asia/Bangkok:20301213T193000
DTSTAMP:20260424T220654
CREATED:20250831T061621Z
LAST-MODIFIED:20260421T064332Z
UID:10000702-1923418800-1923420600@phuketyachtclub.com
SUMMARY:PYC Members Weekly Prize Draw
DESCRIPTION:ANZAC DAY SERVICE @ The Yacht Club\nSaturday 25th April\nThe Commodore and the committee of the Phucket Yacht Club welcome members and guests to join us in the commemorative Anzac day service on Saturday 25th of April.  \nThis service is a dawn service and we will assemble at 5:30 AM\, the service will begin at 6.00 AM\nThe service will follow the traditional form recommended for Anzac day and one which we are proud to host. \nThe Commodore and the committee or the Phucket Yacht Club welcome members and guests to join us in the commemorative Anzac day service on Saturday 25th of April. This service is performed every year. \n  \n  \nCoffee and egg and bacon rolls will be available and the bar will open after the commemorative service . \n  \n  \n 
URL:https://phuketyachtclub.com/event/pyc-members-weekly-prize-draw/2030-12-13/
LOCATION:Phuket Yacht Club\, 52/25 Soi Phon Chalong\, Moo 9\, Chaofa Road East A.Muang T\, Chalong\, Phuket\, 83130\, Thailand
CATEGORIES:Events,Social Events
ATTACH;FMTTYPE=image/jpeg:https://phuketyachtclub.com/wp-content/uploads/PYC-WEEKLY-DRAW-NEW-web-feat.jpg
END:VEVENT
BEGIN:VEVENT
DTSTART;TZID=Asia/Bangkok:20301220T190000
DTEND;TZID=Asia/Bangkok:20301220T193000
DTSTAMP:20260424T220654
CREATED:20250831T061621Z
LAST-MODIFIED:20260421T064332Z
UID:10000703-1924023600-1924025400@phuketyachtclub.com
SUMMARY:PYC Members Weekly Prize Draw
DESCRIPTION:ANZAC DAY SERVICE @ The Yacht Club\nSaturday 25th April\nThe Commodore and the committee of the Phucket Yacht Club welcome members and guests to join us in the commemorative Anzac day service on Saturday 25th of April.  \nThis service is a dawn service and we will assemble at 5:30 AM\, the service will begin at 6.00 AM\nThe service will follow the traditional form recommended for Anzac day and one which we are proud to host. \nThe Commodore and the committee or the Phucket Yacht Club welcome members and guests to join us in the commemorative Anzac day service on Saturday 25th of April. This service is performed every year. \n  \n  \nCoffee and egg and bacon rolls will be available and the bar will open after the commemorative service . \n  \n  \n 
URL:https://phuketyachtclub.com/event/pyc-members-weekly-prize-draw/2030-12-20/
LOCATION:Phuket Yacht Club\, 52/25 Soi Phon Chalong\, Moo 9\, Chaofa Road East A.Muang T\, Chalong\, Phuket\, 83130\, Thailand
CATEGORIES:Events,Social Events
ATTACH;FMTTYPE=image/jpeg:https://phuketyachtclub.com/wp-content/uploads/PYC-WEEKLY-DRAW-NEW-web-feat.jpg
END:VEVENT
BEGIN:VEVENT
DTSTART;TZID=Asia/Bangkok:20301227T190000
DTEND;TZID=Asia/Bangkok:20301227T193000
DTSTAMP:20260424T220654
CREATED:20250831T061621Z
LAST-MODIFIED:20260421T064332Z
UID:10000704-1924628400-1924630200@phuketyachtclub.com
SUMMARY:PYC Members Weekly Prize Draw
DESCRIPTION:ANZAC DAY SERVICE @ The Yacht Club\nSaturday 25th April\nThe Commodore and the committee of the Phucket Yacht Club welcome members and guests to join us in the commemorative Anzac day service on Saturday 25th of April.  \nThis service is a dawn service and we will assemble at 5:30 AM\, the service will begin at 6.00 AM\nThe service will follow the traditional form recommended for Anzac day and one which we are proud to host. \nThe Commodore and the committee or the Phucket Yacht Club welcome members and guests to join us in the commemorative Anzac day service on Saturday 25th of April. This service is performed every year. \n  \n  \nCoffee and egg and bacon rolls will be available and the bar will open after the commemorative service . \n  \n  \n 
URL:https://phuketyachtclub.com/event/pyc-members-weekly-prize-draw/2030-12-27/
LOCATION:Phuket Yacht Club\, 52/25 Soi Phon Chalong\, Moo 9\, Chaofa Road East A.Muang T\, Chalong\, Phuket\, 83130\, Thailand
CATEGORIES:Events,Social Events
ATTACH;FMTTYPE=image/jpeg:https://phuketyachtclub.com/wp-content/uploads/PYC-WEEKLY-DRAW-NEW-web-feat.jpg
END:VEVENT
BEGIN:VEVENT
DTSTART;TZID=Asia/Bangkok:20310103T190000
DTEND;TZID=Asia/Bangkok:20310103T193000
DTSTAMP:20260424T220654
CREATED:20250831T061621Z
LAST-MODIFIED:20260421T064332Z
UID:10000705-1925233200-1925235000@phuketyachtclub.com
SUMMARY:PYC Members Weekly Prize Draw
DESCRIPTION:ANZAC DAY SERVICE @ The Yacht Club\nSaturday 25th April\nThe Commodore and the committee of the Phucket Yacht Club welcome members and guests to join us in the commemorative Anzac day service on Saturday 25th of April.  \nThis service is a dawn service and we will assemble at 5:30 AM\, the service will begin at 6.00 AM\nThe service will follow the traditional form recommended for Anzac day and one which we are proud to host. \nThe Commodore and the committee or the Phucket Yacht Club welcome members and guests to join us in the commemorative Anzac day service on Saturday 25th of April. This service is performed every year. \n  \n  \nCoffee and egg and bacon rolls will be available and the bar will open after the commemorative service . \n  \n  \n 
URL:https://phuketyachtclub.com/event/pyc-members-weekly-prize-draw/2031-01-03/
LOCATION:Phuket Yacht Club\, 52/25 Soi Phon Chalong\, Moo 9\, Chaofa Road East A.Muang T\, Chalong\, Phuket\, 83130\, Thailand
CATEGORIES:Events,Social Events
ATTACH;FMTTYPE=image/jpeg:https://phuketyachtclub.com/wp-content/uploads/PYC-WEEKLY-DRAW-NEW-web-feat.jpg
END:VEVENT
BEGIN:VEVENT
DTSTART;TZID=Asia/Bangkok:20310110T190000
DTEND;TZID=Asia/Bangkok:20310110T193000
DTSTAMP:20260424T220654
CREATED:20250831T061621Z
LAST-MODIFIED:20260421T064332Z
UID:10000706-1925838000-1925839800@phuketyachtclub.com
SUMMARY:PYC Members Weekly Prize Draw
DESCRIPTION:ANZAC DAY SERVICE @ The Yacht Club\nSaturday 25th April\nThe Commodore and the committee of the Phucket Yacht Club welcome members and guests to join us in the commemorative Anzac day service on Saturday 25th of April.  \nThis service is a dawn service and we will assemble at 5:30 AM\, the service will begin at 6.00 AM\nThe service will follow the traditional form recommended for Anzac day and one which we are proud to host. \nThe Commodore and the committee or the Phucket Yacht Club welcome members and guests to join us in the commemorative Anzac day service on Saturday 25th of April. This service is performed every year. \n  \n  \nCoffee and egg and bacon rolls will be available and the bar will open after the commemorative service . \n  \n  \n 
URL:https://phuketyachtclub.com/event/pyc-members-weekly-prize-draw/2031-01-10/
LOCATION:Phuket Yacht Club\, 52/25 Soi Phon Chalong\, Moo 9\, Chaofa Road East A.Muang T\, Chalong\, Phuket\, 83130\, Thailand
CATEGORIES:Events,Social Events
ATTACH;FMTTYPE=image/jpeg:https://phuketyachtclub.com/wp-content/uploads/PYC-WEEKLY-DRAW-NEW-web-feat.jpg
END:VEVENT
BEGIN:VEVENT
DTSTART;TZID=Asia/Bangkok:20310117T190000
DTEND;TZID=Asia/Bangkok:20310117T193000
DTSTAMP:20260424T220654
CREATED:20250831T061621Z
LAST-MODIFIED:20260421T064332Z
UID:10000707-1926442800-1926444600@phuketyachtclub.com
SUMMARY:PYC Members Weekly Prize Draw
DESCRIPTION:ANZAC DAY SERVICE @ The Yacht Club\nSaturday 25th April\nThe Commodore and the committee of the Phucket Yacht Club welcome members and guests to join us in the commemorative Anzac day service on Saturday 25th of April.  \nThis service is a dawn service and we will assemble at 5:30 AM\, the service will begin at 6.00 AM\nThe service will follow the traditional form recommended for Anzac day and one which we are proud to host. \nThe Commodore and the committee or the Phucket Yacht Club welcome members and guests to join us in the commemorative Anzac day service on Saturday 25th of April. This service is performed every year. \n  \n  \nCoffee and egg and bacon rolls will be available and the bar will open after the commemorative service . \n  \n  \n 
URL:https://phuketyachtclub.com/event/pyc-members-weekly-prize-draw/2031-01-17/
LOCATION:Phuket Yacht Club\, 52/25 Soi Phon Chalong\, Moo 9\, Chaofa Road East A.Muang T\, Chalong\, Phuket\, 83130\, Thailand
CATEGORIES:Events,Social Events
ATTACH;FMTTYPE=image/jpeg:https://phuketyachtclub.com/wp-content/uploads/PYC-WEEKLY-DRAW-NEW-web-feat.jpg
END:VEVENT
BEGIN:VEVENT
DTSTART;TZID=Asia/Bangkok:20310124T190000
DTEND;TZID=Asia/Bangkok:20310124T193000
DTSTAMP:20260424T220654
CREATED:20250831T061621Z
LAST-MODIFIED:20260421T064332Z
UID:10000708-1927047600-1927049400@phuketyachtclub.com
SUMMARY:PYC Members Weekly Prize Draw
DESCRIPTION:ANZAC DAY SERVICE @ The Yacht Club\nSaturday 25th April\nThe Commodore and the committee of the Phucket Yacht Club welcome members and guests to join us in the commemorative Anzac day service on Saturday 25th of April.  \nThis service is a dawn service and we will assemble at 5:30 AM\, the service will begin at 6.00 AM\nThe service will follow the traditional form recommended for Anzac day and one which we are proud to host. \nThe Commodore and the committee or the Phucket Yacht Club welcome members and guests to join us in the commemorative Anzac day service on Saturday 25th of April. This service is performed every year. \n  \n  \nCoffee and egg and bacon rolls will be available and the bar will open after the commemorative service . \n  \n  \n 
URL:https://phuketyachtclub.com/event/pyc-members-weekly-prize-draw/2031-01-24/
LOCATION:Phuket Yacht Club\, 52/25 Soi Phon Chalong\, Moo 9\, Chaofa Road East A.Muang T\, Chalong\, Phuket\, 83130\, Thailand
CATEGORIES:Events,Social Events
ATTACH;FMTTYPE=image/jpeg:https://phuketyachtclub.com/wp-content/uploads/PYC-WEEKLY-DRAW-NEW-web-feat.jpg
END:VEVENT
BEGIN:VEVENT
DTSTART;TZID=Asia/Bangkok:20310131T190000
DTEND;TZID=Asia/Bangkok:20310131T193000
DTSTAMP:20260424T220654
CREATED:20250831T061621Z
LAST-MODIFIED:20260421T064332Z
UID:10000709-1927652400-1927654200@phuketyachtclub.com
SUMMARY:PYC Members Weekly Prize Draw
DESCRIPTION:ANZAC DAY SERVICE @ The Yacht Club\nSaturday 25th April\nThe Commodore and the committee of the Phucket Yacht Club welcome members and guests to join us in the commemorative Anzac day service on Saturday 25th of April.  \nThis service is a dawn service and we will assemble at 5:30 AM\, the service will begin at 6.00 AM\nThe service will follow the traditional form recommended for Anzac day and one which we are proud to host. \nThe Commodore and the committee or the Phucket Yacht Club welcome members and guests to join us in the commemorative Anzac day service on Saturday 25th of April. This service is performed every year. \n  \n  \nCoffee and egg and bacon rolls will be available and the bar will open after the commemorative service . \n  \n  \n 
URL:https://phuketyachtclub.com/event/pyc-members-weekly-prize-draw/2031-01-31/
LOCATION:Phuket Yacht Club\, 52/25 Soi Phon Chalong\, Moo 9\, Chaofa Road East A.Muang T\, Chalong\, Phuket\, 83130\, Thailand
CATEGORIES:Events,Social Events
ATTACH;FMTTYPE=image/jpeg:https://phuketyachtclub.com/wp-content/uploads/PYC-WEEKLY-DRAW-NEW-web-feat.jpg
END:VEVENT
BEGIN:VEVENT
DTSTART;TZID=Asia/Bangkok:20310207T190000
DTEND;TZID=Asia/Bangkok:20310207T193000
DTSTAMP:20260424T220654
CREATED:20250831T061621Z
LAST-MODIFIED:20260421T064332Z
UID:10000710-1928257200-1928259000@phuketyachtclub.com
SUMMARY:PYC Members Weekly Prize Draw
DESCRIPTION:ANZAC DAY SERVICE @ The Yacht Club\nSaturday 25th April\nThe Commodore and the committee of the Phucket Yacht Club welcome members and guests to join us in the commemorative Anzac day service on Saturday 25th of April.  \nThis service is a dawn service and we will assemble at 5:30 AM\, the service will begin at 6.00 AM\nThe service will follow the traditional form recommended for Anzac day and one which we are proud to host. \nThe Commodore and the committee or the Phucket Yacht Club welcome members and guests to join us in the commemorative Anzac day service on Saturday 25th of April. This service is performed every year. \n  \n  \nCoffee and egg and bacon rolls will be available and the bar will open after the commemorative service . \n  \n  \n 
URL:https://phuketyachtclub.com/event/pyc-members-weekly-prize-draw/2031-02-07/
LOCATION:Phuket Yacht Club\, 52/25 Soi Phon Chalong\, Moo 9\, Chaofa Road East A.Muang T\, Chalong\, Phuket\, 83130\, Thailand
CATEGORIES:Events,Social Events
ATTACH;FMTTYPE=image/jpeg:https://phuketyachtclub.com/wp-content/uploads/PYC-WEEKLY-DRAW-NEW-web-feat.jpg
END:VEVENT
BEGIN:VEVENT
DTSTART;TZID=Asia/Bangkok:20310214T190000
DTEND;TZID=Asia/Bangkok:20310214T193000
DTSTAMP:20260424T220654
CREATED:20250831T061621Z
LAST-MODIFIED:20260421T064332Z
UID:10000711-1928862000-1928863800@phuketyachtclub.com
SUMMARY:PYC Members Weekly Prize Draw
DESCRIPTION:ANZAC DAY SERVICE @ The Yacht Club\nSaturday 25th April\nThe Commodore and the committee of the Phucket Yacht Club welcome members and guests to join us in the commemorative Anzac day service on Saturday 25th of April.  \nThis service is a dawn service and we will assemble at 5:30 AM\, the service will begin at 6.00 AM\nThe service will follow the traditional form recommended for Anzac day and one which we are proud to host. \nThe Commodore and the committee or the Phucket Yacht Club welcome members and guests to join us in the commemorative Anzac day service on Saturday 25th of April. This service is performed every year. \n  \n  \nCoffee and egg and bacon rolls will be available and the bar will open after the commemorative service . \n  \n  \n 
URL:https://phuketyachtclub.com/event/pyc-members-weekly-prize-draw/2031-02-14/
LOCATION:Phuket Yacht Club\, 52/25 Soi Phon Chalong\, Moo 9\, Chaofa Road East A.Muang T\, Chalong\, Phuket\, 83130\, Thailand
CATEGORIES:Events,Social Events
ATTACH;FMTTYPE=image/jpeg:https://phuketyachtclub.com/wp-content/uploads/PYC-WEEKLY-DRAW-NEW-web-feat.jpg
END:VEVENT
BEGIN:VEVENT
DTSTART;TZID=Asia/Bangkok:20310221T190000
DTEND;TZID=Asia/Bangkok:20310221T193000
DTSTAMP:20260424T220654
CREATED:20250831T061621Z
LAST-MODIFIED:20260421T064332Z
UID:10000712-1929466800-1929468600@phuketyachtclub.com
SUMMARY:PYC Members Weekly Prize Draw
DESCRIPTION:ANZAC DAY SERVICE @ The Yacht Club\nSaturday 25th April\nThe Commodore and the committee of the Phucket Yacht Club welcome members and guests to join us in the commemorative Anzac day service on Saturday 25th of April.  \nThis service is a dawn service and we will assemble at 5:30 AM\, the service will begin at 6.00 AM\nThe service will follow the traditional form recommended for Anzac day and one which we are proud to host. \nThe Commodore and the committee or the Phucket Yacht Club welcome members and guests to join us in the commemorative Anzac day service on Saturday 25th of April. This service is performed every year. \n  \n  \nCoffee and egg and bacon rolls will be available and the bar will open after the commemorative service . \n  \n  \n 
URL:https://phuketyachtclub.com/event/pyc-members-weekly-prize-draw/2031-02-21/
LOCATION:Phuket Yacht Club\, 52/25 Soi Phon Chalong\, Moo 9\, Chaofa Road East A.Muang T\, Chalong\, Phuket\, 83130\, Thailand
CATEGORIES:Events,Social Events
ATTACH;FMTTYPE=image/jpeg:https://phuketyachtclub.com/wp-content/uploads/PYC-WEEKLY-DRAW-NEW-web-feat.jpg
END:VEVENT
BEGIN:VEVENT
DTSTART;TZID=Asia/Bangkok:20310228T190000
DTEND;TZID=Asia/Bangkok:20310228T193000
DTSTAMP:20260424T220654
CREATED:20250831T061621Z
LAST-MODIFIED:20260421T064332Z
UID:10000719-1930071600-1930073400@phuketyachtclub.com
SUMMARY:PYC Members Weekly Prize Draw
DESCRIPTION:ANZAC DAY SERVICE @ The Yacht Club\nSaturday 25th April\nThe Commodore and the committee of the Phucket Yacht Club welcome members and guests to join us in the commemorative Anzac day service on Saturday 25th of April.  \nThis service is a dawn service and we will assemble at 5:30 AM\, the service will begin at 6.00 AM\nThe service will follow the traditional form recommended for Anzac day and one which we are proud to host. \nThe Commodore and the committee or the Phucket Yacht Club welcome members and guests to join us in the commemorative Anzac day service on Saturday 25th of April. This service is performed every year. \n  \n  \nCoffee and egg and bacon rolls will be available and the bar will open after the commemorative service . \n  \n  \n 
URL:https://phuketyachtclub.com/event/pyc-members-weekly-prize-draw/2031-02-28/
LOCATION:Phuket Yacht Club\, 52/25 Soi Phon Chalong\, Moo 9\, Chaofa Road East A.Muang T\, Chalong\, Phuket\, 83130\, Thailand
CATEGORIES:Events,Social Events
ATTACH;FMTTYPE=image/jpeg:https://phuketyachtclub.com/wp-content/uploads/PYC-WEEKLY-DRAW-NEW-web-feat.jpg
END:VEVENT
BEGIN:VEVENT
DTSTART;TZID=Asia/Bangkok:20310307T190000
DTEND;TZID=Asia/Bangkok:20310307T193000
DTSTAMP:20260424T220654
CREATED:20250831T061621Z
LAST-MODIFIED:20260421T064332Z
UID:10000720-1930676400-1930678200@phuketyachtclub.com
SUMMARY:PYC Members Weekly Prize Draw
DESCRIPTION:ANZAC DAY SERVICE @ The Yacht Club\nSaturday 25th April\nThe Commodore and the committee of the Phucket Yacht Club welcome members and guests to join us in the commemorative Anzac day service on Saturday 25th of April.  \nThis service is a dawn service and we will assemble at 5:30 AM\, the service will begin at 6.00 AM\nThe service will follow the traditional form recommended for Anzac day and one which we are proud to host. \nThe Commodore and the committee or the Phucket Yacht Club welcome members and guests to join us in the commemorative Anzac day service on Saturday 25th of April. This service is performed every year. \n  \n  \nCoffee and egg and bacon rolls will be available and the bar will open after the commemorative service . \n  \n  \n 
URL:https://phuketyachtclub.com/event/pyc-members-weekly-prize-draw/2031-03-07/
LOCATION:Phuket Yacht Club\, 52/25 Soi Phon Chalong\, Moo 9\, Chaofa Road East A.Muang T\, Chalong\, Phuket\, 83130\, Thailand
CATEGORIES:Events,Social Events
ATTACH;FMTTYPE=image/jpeg:https://phuketyachtclub.com/wp-content/uploads/PYC-WEEKLY-DRAW-NEW-web-feat.jpg
END:VEVENT
BEGIN:VEVENT
DTSTART;TZID=Asia/Bangkok:20310314T190000
DTEND;TZID=Asia/Bangkok:20310314T193000
DTSTAMP:20260424T220654
CREATED:20250831T061621Z
LAST-MODIFIED:20260421T064332Z
UID:10000721-1931281200-1931283000@phuketyachtclub.com
SUMMARY:PYC Members Weekly Prize Draw
DESCRIPTION:ANZAC DAY SERVICE @ The Yacht Club\nSaturday 25th April\nThe Commodore and the committee of the Phucket Yacht Club welcome members and guests to join us in the commemorative Anzac day service on Saturday 25th of April.  \nThis service is a dawn service and we will assemble at 5:30 AM\, the service will begin at 6.00 AM\nThe service will follow the traditional form recommended for Anzac day and one which we are proud to host. \nThe Commodore and the committee or the Phucket Yacht Club welcome members and guests to join us in the commemorative Anzac day service on Saturday 25th of April. This service is performed every year. \n  \n  \nCoffee and egg and bacon rolls will be available and the bar will open after the commemorative service . \n  \n  \n 
URL:https://phuketyachtclub.com/event/pyc-members-weekly-prize-draw/2031-03-14/
LOCATION:Phuket Yacht Club\, 52/25 Soi Phon Chalong\, Moo 9\, Chaofa Road East A.Muang T\, Chalong\, Phuket\, 83130\, Thailand
CATEGORIES:Events,Social Events
ATTACH;FMTTYPE=image/jpeg:https://phuketyachtclub.com/wp-content/uploads/PYC-WEEKLY-DRAW-NEW-web-feat.jpg
END:VEVENT
BEGIN:VEVENT
DTSTART;TZID=Asia/Bangkok:20310321T190000
DTEND;TZID=Asia/Bangkok:20310321T193000
DTSTAMP:20260424T220654
CREATED:20250831T061621Z
LAST-MODIFIED:20260421T064332Z
UID:10000722-1931886000-1931887800@phuketyachtclub.com
SUMMARY:PYC Members Weekly Prize Draw
DESCRIPTION:ANZAC DAY SERVICE @ The Yacht Club\nSaturday 25th April\nThe Commodore and the committee of the Phucket Yacht Club welcome members and guests to join us in the commemorative Anzac day service on Saturday 25th of April.  \nThis service is a dawn service and we will assemble at 5:30 AM\, the service will begin at 6.00 AM\nThe service will follow the traditional form recommended for Anzac day and one which we are proud to host. \nThe Commodore and the committee or the Phucket Yacht Club welcome members and guests to join us in the commemorative Anzac day service on Saturday 25th of April. This service is performed every year. \n  \n  \nCoffee and egg and bacon rolls will be available and the bar will open after the commemorative service . \n  \n  \n 
URL:https://phuketyachtclub.com/event/pyc-members-weekly-prize-draw/2031-03-21/
LOCATION:Phuket Yacht Club\, 52/25 Soi Phon Chalong\, Moo 9\, Chaofa Road East A.Muang T\, Chalong\, Phuket\, 83130\, Thailand
CATEGORIES:Events,Social Events
ATTACH;FMTTYPE=image/jpeg:https://phuketyachtclub.com/wp-content/uploads/PYC-WEEKLY-DRAW-NEW-web-feat.jpg
END:VEVENT
BEGIN:VEVENT
DTSTART;TZID=Asia/Bangkok:20310328T190000
DTEND;TZID=Asia/Bangkok:20310328T193000
DTSTAMP:20260424T220654
CREATED:20250831T061621Z
LAST-MODIFIED:20260421T064332Z
UID:10000723-1932490800-1932492600@phuketyachtclub.com
SUMMARY:PYC Members Weekly Prize Draw
DESCRIPTION:ANZAC DAY SERVICE @ The Yacht Club\nSaturday 25th April\nThe Commodore and the committee of the Phucket Yacht Club welcome members and guests to join us in the commemorative Anzac day service on Saturday 25th of April.  \nThis service is a dawn service and we will assemble at 5:30 AM\, the service will begin at 6.00 AM\nThe service will follow the traditional form recommended for Anzac day and one which we are proud to host. \nThe Commodore and the committee or the Phucket Yacht Club welcome members and guests to join us in the commemorative Anzac day service on Saturday 25th of April. This service is performed every year. \n  \n  \nCoffee and egg and bacon rolls will be available and the bar will open after the commemorative service . \n  \n  \n 
URL:https://phuketyachtclub.com/event/pyc-members-weekly-prize-draw/2031-03-28/
LOCATION:Phuket Yacht Club\, 52/25 Soi Phon Chalong\, Moo 9\, Chaofa Road East A.Muang T\, Chalong\, Phuket\, 83130\, Thailand
CATEGORIES:Events,Social Events
ATTACH;FMTTYPE=image/jpeg:https://phuketyachtclub.com/wp-content/uploads/PYC-WEEKLY-DRAW-NEW-web-feat.jpg
END:VEVENT
BEGIN:VEVENT
DTSTART;TZID=Asia/Bangkok:20310404T190000
DTEND;TZID=Asia/Bangkok:20310404T193000
DTSTAMP:20260424T220654
CREATED:20250831T061621Z
LAST-MODIFIED:20260421T064332Z
UID:10000724-1933095600-1933097400@phuketyachtclub.com
SUMMARY:PYC Members Weekly Prize Draw
DESCRIPTION:ANZAC DAY SERVICE @ The Yacht Club\nSaturday 25th April\nThe Commodore and the committee of the Phucket Yacht Club welcome members and guests to join us in the commemorative Anzac day service on Saturday 25th of April.  \nThis service is a dawn service and we will assemble at 5:30 AM\, the service will begin at 6.00 AM\nThe service will follow the traditional form recommended for Anzac day and one which we are proud to host. \nThe Commodore and the committee or the Phucket Yacht Club welcome members and guests to join us in the commemorative Anzac day service on Saturday 25th of April. This service is performed every year. \n  \n  \nCoffee and egg and bacon rolls will be available and the bar will open after the commemorative service . \n  \n  \n 
URL:https://phuketyachtclub.com/event/pyc-members-weekly-prize-draw/2031-04-04/
LOCATION:Phuket Yacht Club\, 52/25 Soi Phon Chalong\, Moo 9\, Chaofa Road East A.Muang T\, Chalong\, Phuket\, 83130\, Thailand
CATEGORIES:Events,Social Events
ATTACH;FMTTYPE=image/jpeg:https://phuketyachtclub.com/wp-content/uploads/PYC-WEEKLY-DRAW-NEW-web-feat.jpg
END:VEVENT
BEGIN:VEVENT
DTSTART;TZID=Asia/Bangkok:20310411T190000
DTEND;TZID=Asia/Bangkok:20310411T193000
DTSTAMP:20260424T220654
CREATED:20250831T061621Z
LAST-MODIFIED:20260421T064332Z
UID:10000725-1933700400-1933702200@phuketyachtclub.com
SUMMARY:PYC Members Weekly Prize Draw
DESCRIPTION:ANZAC DAY SERVICE @ The Yacht Club\nSaturday 25th April\nThe Commodore and the committee of the Phucket Yacht Club welcome members and guests to join us in the commemorative Anzac day service on Saturday 25th of April.  \nThis service is a dawn service and we will assemble at 5:30 AM\, the service will begin at 6.00 AM\nThe service will follow the traditional form recommended for Anzac day and one which we are proud to host. \nThe Commodore and the committee or the Phucket Yacht Club welcome members and guests to join us in the commemorative Anzac day service on Saturday 25th of April. This service is performed every year. \n  \n  \nCoffee and egg and bacon rolls will be available and the bar will open after the commemorative service . \n  \n  \n 
URL:https://phuketyachtclub.com/event/pyc-members-weekly-prize-draw/2031-04-11/
LOCATION:Phuket Yacht Club\, 52/25 Soi Phon Chalong\, Moo 9\, Chaofa Road East A.Muang T\, Chalong\, Phuket\, 83130\, Thailand
CATEGORIES:Events,Social Events
ATTACH;FMTTYPE=image/jpeg:https://phuketyachtclub.com/wp-content/uploads/PYC-WEEKLY-DRAW-NEW-web-feat.jpg
END:VEVENT
BEGIN:VEVENT
DTSTART;TZID=Asia/Bangkok:20310418T190000
DTEND;TZID=Asia/Bangkok:20310418T193000
DTSTAMP:20260424T220654
CREATED:20250831T061621Z
LAST-MODIFIED:20260421T064332Z
UID:10000726-1934305200-1934307000@phuketyachtclub.com
SUMMARY:PYC Members Weekly Prize Draw
DESCRIPTION:ANZAC DAY SERVICE @ The Yacht Club\nSaturday 25th April\nThe Commodore and the committee of the Phucket Yacht Club welcome members and guests to join us in the commemorative Anzac day service on Saturday 25th of April.  \nThis service is a dawn service and we will assemble at 5:30 AM\, the service will begin at 6.00 AM\nThe service will follow the traditional form recommended for Anzac day and one which we are proud to host. \nThe Commodore and the committee or the Phucket Yacht Club welcome members and guests to join us in the commemorative Anzac day service on Saturday 25th of April. This service is performed every year. \n  \n  \nCoffee and egg and bacon rolls will be available and the bar will open after the commemorative service . \n  \n  \n 
URL:https://phuketyachtclub.com/event/pyc-members-weekly-prize-draw/2031-04-18/
LOCATION:Phuket Yacht Club\, 52/25 Soi Phon Chalong\, Moo 9\, Chaofa Road East A.Muang T\, Chalong\, Phuket\, 83130\, Thailand
CATEGORIES:Events,Social Events
ATTACH;FMTTYPE=image/jpeg:https://phuketyachtclub.com/wp-content/uploads/PYC-WEEKLY-DRAW-NEW-web-feat.jpg
END:VEVENT
END:VCALENDAR