BEGIN:VCALENDAR
VERSION:2.0
PRODID:-//Phuket Yacht Club - ECPv6.15.20//NONSGML v1.0//EN
CALSCALE:GREGORIAN
METHOD:PUBLISH
X-WR-CALNAME:Phuket Yacht Club
X-ORIGINAL-URL:https://phuketyachtclub.com
X-WR-CALDESC:Events for Phuket Yacht Club
REFRESH-INTERVAL;VALUE=DURATION:PT1H
X-Robots-Tag:noindex
X-PUBLISHED-TTL:PT1H
BEGIN:VTIMEZONE
TZID:Asia/Bangkok
BEGIN:STANDARD
TZOFFSETFROM:+0700
TZOFFSETTO:+0700
TZNAME:+07
DTSTART:20250101T000000
END:STANDARD
END:VTIMEZONE
BEGIN:VEVENT
DTSTART;VALUE=DATE:20260509
DTEND;VALUE=DATE:20260511
DTSTAMP:20260424T221333
CREATED:20260410T114552Z
LAST-MODIFIED:20260410T114949Z
UID:10000717-1778284800-1778457599@phuketyachtclub.com
SUMMARY:PYC Power Boat Trip - 2026
DESCRIPTION:ANZAC DAY SERVICE @ The Yacht Club\nSaturday 25th April\nThe Commodore and the committee of the Phucket Yacht Club welcome members and guests to join us in the commemorative Anzac day service on Saturday 25th of April.  \nThis service is a dawn service and we will assemble at 5:30 AM\, the service will begin at 6.00 AM\nThe service will follow the traditional form recommended for Anzac day and one which we are proud to host. \nThe Commodore and the committee or the Phucket Yacht Club welcome members and guests to join us in the commemorative Anzac day service on Saturday 25th of April. This service is performed every year. \n  \n  \nCoffee and egg and bacon rolls will be available and the bar will open after the commemorative service . \n  \n  \n 
URL:https://phuketyachtclub.com/event/pyc-power-boat-trip-2026/
LOCATION:Phuket Yacht Club\, 52/25 Soi Phon Chalong\, Moo 9\, Chaofa Road East A.Muang T\, Chalong\, Phuket\, 83130\, Thailand
CATEGORIES:Events,Sailing Events
ATTACH;FMTTYPE=image/jpeg:https://phuketyachtclub.com/wp-content/uploads/PYC-power-boat-trip-may-2026.jpg
ORGANIZER;CN="PHUKET YACHT CLUB":MAILTO:secretary@phuketyachtclub.com
END:VEVENT
END:VCALENDAR